BEGIN:VCALENDAR
VERSION:2.0
PRODID:-//Kulturschlüssel Saar - ECPv6.15.20//NONSGML v1.0//EN
CALSCALE:GREGORIAN
METHOD:PUBLISH
X-WR-CALNAME:Kulturschlüssel Saar
X-ORIGINAL-URL:https://www.kulturschluessel-saar.de
X-WR-CALDESC:Veranstaltungen für Kulturschlüssel Saar
REFRESH-INTERVAL;VALUE=DURATION:PT1H
X-Robots-Tag:noindex
X-PUBLISHED-TTL:PT1H
BEGIN:VTIMEZONE
TZID:Europe/Berlin
BEGIN:DAYLIGHT
TZOFFSETFROM:+0100
TZOFFSETTO:+0200
TZNAME:CEST
DTSTART:20250330T010000
END:DAYLIGHT
BEGIN:STANDARD
TZOFFSETFROM:+0200
TZOFFSETTO:+0100
TZNAME:CET
DTSTART:20251026T010000
END:STANDARD
BEGIN:DAYLIGHT
TZOFFSETFROM:+0100
TZOFFSETTO:+0200
TZNAME:CEST
DTSTART:20260329T010000
END:DAYLIGHT
BEGIN:STANDARD
TZOFFSETFROM:+0200
TZOFFSETTO:+0100
TZNAME:CET
DTSTART:20261025T010000
END:STANDARD
BEGIN:DAYLIGHT
TZOFFSETFROM:+0100
TZOFFSETTO:+0200
TZNAME:CEST
DTSTART:20270328T010000
END:DAYLIGHT
BEGIN:STANDARD
TZOFFSETFROM:+0200
TZOFFSETTO:+0100
TZNAME:CET
DTSTART:20271031T010000
END:STANDARD
END:VTIMEZONE
BEGIN:VEVENT
DTSTART;TZID=Europe/Berlin:20260424T160000
DTEND;TZID=Europe/Berlin:20260424T160000
DTSTAMP:20260424T040617
CREATED:20260319T205436Z
LAST-MODIFIED:20260319T205436Z
UID:2651-1777046400-1777046400@www.kulturschluessel-saar.de
SUMMARY:KulturVorOrt: LiLaLucy & der Zauberkoffer – Kleinblittersdorf
DESCRIPTION:Auf dem Dachboden ihres Großvaters hat LiLaLucy eine unglaubliche Entdeckung gemacht. Zwischen verstaubten Kisten und Büchern hat sie einen Zauberkoffer gefunden. Lucys Opa war nämlich der berühmteste Zaubermeister seiner Zeit. In diesem magischen Koffer sind alle tollen Zauberkunststücke\, mit denen ihr Opa berühmt wurde. Es gilt also mit LiLaLucy die großen Zaubergeheimnisse zu entdecken… \nEintritt: FREI 
URL:https://www.kulturschluessel-saar.de/event/kulturvorort-lilalucy-der-zauberkoffer-kleinblittersdorf/
LOCATION:Grundschulturnhalle Schulzentrum Kleinblittersdorf\, Wintringer Straße\, Kleinblittersdorf\, 66271
CATEGORIES:Zauberei
END:VEVENT
BEGIN:VEVENT
DTSTART;TZID=Europe/Berlin:20260424T190000
DTEND;TZID=Europe/Berlin:20260424T213000
DTSTAMP:20260424T040617
CREATED:20260319T204849Z
LAST-MODIFIED:20260319T204849Z
UID:2649-1777057200-1777066200@www.kulturschluessel-saar.de
SUMMARY:THEATERSPAß: MUSENBOLDE – „DOKTORMUTTER FAUST“
DESCRIPTION:Die Inszenierung basiert auf einer zeitgenössischen Bearbeitung von Goethes „Faust“ durch die Autorin Fatma Aydemir. Die Figur der Faust erscheint hier als Professorin in einer wissenschaftsfeindlichen Gegenwart\, gefeiert und angefeindet zugleich. Die feministische Überschreibung des Klassikers thematisiert Macht\, Populismus\, Personenkult und gesellschaftlichen Konsens – eindringlich\, politisch und hochaktuell. \nFür Faust-Liebhaber \nEintritt: für Mitglieder des Kulturschlüssel-Saar; Frei Begrenztes Kontingent
URL:https://www.kulturschluessel-saar.de/event/theaterspass-musenbolde-doktormutter-faust/
LOCATION:Stadthalle St. Ingbert\, Am Markt 6\, St. Ingbert\, 66386
CATEGORIES:Theater
END:VEVENT
BEGIN:VEVENT
DTSTART;TZID=Europe/Berlin:20260424T200000
DTEND;TZID=Europe/Berlin:20260424T200000
DTSTAMP:20260424T040617
CREATED:20260319T205643Z
LAST-MODIFIED:20260319T205643Z
UID:2654-1777060800-1777060800@www.kulturschluessel-saar.de
SUMMARY:CALIFORNIA
DESCRIPTION:Die italienische Formation CALIFONIA entführt die Zuhörer in die perfekte Urlaubsstimmung. Das Programm der fünf Musikerinnen und Musiker verspricht eine unglaubliche Vielfalt: Hits von beliebten italienischen Sängern wie Eros Ramazzotti\, Laura Pausini\, Umberto Tozzi und Toto Cutugno werden neben Klassikern wie „Volare“\, „Azzurro“ oder auch italienischen Duetten wie „Vivo per lei“ professionell dargeboten. \nEintritt: für Mitglieder des Kulturschlüssel-Saar; Frei Begrenztes Kontingent
URL:https://www.kulturschluessel-saar.de/event/california-2/
LOCATION:Bel Etage\, Deutschmühlental\, Saarbrücken\, 66117
CATEGORIES:Konzert,Musik
END:VEVENT
END:VCALENDAR